BEGIN:VCALENDAR
VERSION:2.0
PRODID:-//Oswego County Humane Society - ECPv6.15.20//NONSGML v1.0//EN
CALSCALE:GREGORIAN
METHOD:PUBLISH
X-WR-CALNAME:Oswego County Humane Society
X-ORIGINAL-URL:https://oswegohumane.org
X-WR-CALDESC:Events for Oswego County Humane Society
REFRESH-INTERVAL;VALUE=DURATION:PT1H
X-Robots-Tag:noindex
X-PUBLISHED-TTL:PT1H
BEGIN:VTIMEZONE
TZID:America/New_York
BEGIN:DAYLIGHT
TZOFFSETFROM:-0500
TZOFFSETTO:-0400
TZNAME:EDT
DTSTART:20250309T070000
END:DAYLIGHT
BEGIN:STANDARD
TZOFFSETFROM:-0400
TZOFFSETTO:-0500
TZNAME:EST
DTSTART:20251102T060000
END:STANDARD
BEGIN:DAYLIGHT
TZOFFSETFROM:-0500
TZOFFSETTO:-0400
TZNAME:EDT
DTSTART:20260308T070000
END:DAYLIGHT
BEGIN:STANDARD
TZOFFSETFROM:-0400
TZOFFSETTO:-0500
TZNAME:EST
DTSTART:20261101T060000
END:STANDARD
BEGIN:DAYLIGHT
TZOFFSETFROM:-0500
TZOFFSETTO:-0400
TZNAME:EDT
DTSTART:20270314T070000
END:DAYLIGHT
BEGIN:STANDARD
TZOFFSETFROM:-0400
TZOFFSETTO:-0500
TZNAME:EST
DTSTART:20271107T060000
END:STANDARD
END:VTIMEZONE
BEGIN:VEVENT
DTSTART;TZID=America/New_York:20260516T090000
DTEND;TZID=America/New_York:20260517T160000
DTSTAMP:20260423T023313
CREATED:20230209T171639Z
LAST-MODIFIED:20260422T172329Z
UID:47262-1778922000-1779033600@oswegohumane.org
SUMMARY:OCHS Annual Spring Plant Fundraiser 2026
DESCRIPTION:Shop at Oliver Paine Greenhouse\nSaturday and Sunday May 16 and 17\, 2026\n9 AM-4 PM \nOCHS will receive 10% of your plant purchase!\n125 South Granby Road\, off Route 48\, south of Fulton \n  \n**MUST PRESENT THIS PHYSICAL COUPON AT PURCHASE**\nIf you would like to pick one up at the office or to receive one in the mail\, please reach out. 315-207-1070
URL:https://oswegohumane.org/event/springplantfundraiser/
LOCATION:Oliver Paine Greenhouses\, 125 South Granby Road\, Fulton\, NY\, 13069
ATTACH;FMTTYPE=image/jpeg:https://oswegohumane.org/wp-content/uploads/14.jpg
END:VEVENT
BEGIN:VEVENT
DTSTART;TZID=America/New_York:20260607T150000
DTEND;TZID=America/New_York:20260607T180000
DTSTAMP:20260423T023313
CREATED:20230510T172149Z
LAST-MODIFIED:20260415T145814Z
UID:46785-1780844400-1780855200@oswegohumane.org
SUMMARY:Paws on the Patio
DESCRIPTION:Paws on the Patio\nA social event with people and their dogs!\nSunday\, June 7th  3-6 PM\nGibby’s Irish Pub 8 West Second Street\, Oswego\nNo Cover- Free for all 21+\nDonations and Pet supplies Accepted \nCome hangout in the sun and listen to live music! Join in on some raffles and grab a treat and gift for your furry best friend \n\n  \n 
URL:https://oswegohumane.org/event/pawspatio/
LOCATION:Gibby’s Irish Pub\, 8 W 2nd Street\, Oswego\, NY\, 13126\, United States
ATTACH;FMTTYPE=image/png:https://oswegohumane.org/wp-content/uploads/Screenshot-2026-04-15-at-10.55.56-AM.png
ORGANIZER;CN="Oswego County Humane Society":MAILTO:info@oswegohumane.org
END:VEVENT
BEGIN:VEVENT
DTSTART;TZID=America/New_York:20260613T090000
DTEND;TZID=America/New_York:20260613T170000
DTSTAMP:20260423T023313
CREATED:20250310T160249Z
LAST-MODIFIED:20260317T153348Z
UID:48892-1781341200-1781370000@oswegohumane.org
SUMMARY:Support OCHS and Win at the Dexter Duck Derby
DESCRIPTION:Saturday\, June 13th\, 2026\n\nQuick link to ADOPT a duck!\n\n\n One Duck. One Splash.\n$4\,000 in Your Pocket.\n\nThis year\, the Dexter Duck Derby is changing the game in a BIG way —\none lucky duck adopter will win $4\,000 cash! \n  \n\n\n‘ADOPT’ A DUCK NOW\nby following the ticket link or searching for the OCHS duck on the website.\n$5 for each OCHS Duck will benefit our organization directly!\nGather at the Dexter\, NY Town Docks on Saturday June 7th at 3PM and watch the Ducks travel in the Black River after they are dropped from the bridge and race to the finish line.\n\n\n\n**YOU DO NOT HAVE TO BE PRESENT AT THE DERBY TO WIN** \n\n\n* participants do not receive a real duck\, but will be given a number that correlates to the printed duck that will flow down the river.
URL:https://oswegohumane.org/event/duck-derby/
LOCATION:Black River\, Dexter\, NY\, 13634
ATTACH;FMTTYPE=image/png:https://oswegohumane.org/wp-content/uploads/Untitled-design-9-1.png
END:VEVENT
BEGIN:VEVENT
DTSTART;TZID=America/New_York:20260719T080000
DTEND;TZID=America/New_York:20260719T170000
DTSTAMP:20260423T023313
CREATED:20240509T064430Z
LAST-MODIFIED:20260313T154449Z
UID:47260-1784448000-1784480400@oswegohumane.org
SUMMARY:The Mutt Putt Golf Tournament
DESCRIPTION:Sunday\, July 19th\, 2026\nGolf Tournament to Benefit the Oswego County Humane Society\nSunday\, July 19\, 2026 \nBattle Island State Park\nCaptain & Crew with Shot Gun start @ 9am \nMORE DETAILS COMING SOON! \n  \n  \nDoes your business want to sponsor a team or learn about other sponsor ship opportunities?\nCall the office at 315-207-1070
URL:https://oswegohumane.org/event/muttputt/
LOCATION:Battle Island State Park Golf Course\, 2150 State Route 48 Fulton\, NY 13069\, Fulton\, NY\, 13969
ORGANIZER;CN="Oswego County Humane Society":MAILTO:info@oswegohumane.org
END:VEVENT
BEGIN:VEVENT
DTSTART;TZID=America/New_York:20261128T100000
DTEND;TZID=America/New_York:20261128T160000
DTSTAMP:20260423T023313
CREATED:20221013T155134Z
LAST-MODIFIED:20260313T154419Z
UID:46928-1795860000-1795881600@oswegohumane.org
SUMMARY:Home for The Holidays
DESCRIPTION:Saturday November 28th\, 2026 \nOswego County Humane Society’s\nHome for the Holidays\nAdoptable Animals | Snacks\, Cocoa\, & more | Craft & Vendor Tables\nRaffles | Kids Crafts | Pet & Family Photos with Santa\nOnline Holiday Pet Photo Contest \nSmall Business Saturday!\nSaturday\, November 28\, 2026\nOswego Elks Lodge\n132 West 5th Street\n10 – 4 PM \nVendor applications available late Summer \nemail Katrina@oswegohumane.org or call 315-207-1070 \n 
URL:https://oswegohumane.org/event/h4h/
LOCATION:Elks Lodge\, 132 W. 5th Street\, Oswego\, NY\, 13126
END:VEVENT
END:VCALENDAR